BEGIN:VCALENDAR
VERSION:2.0
PRODID:-//Tukios.com/
BEGIN:VEVENT
UID:1dbc5263-28b7-4ea0-9d6a-85439c8d9440@www.holmeswatkins.com
DTSTAMP:20260420T175342Z
DTSTART:20260424T140000Z
DTEND:20260424T143000Z
SUMMARY:Funeral Service
DESCRIPTION:
URL:https://www.holmeswatkins.com/obituaries/marlene-couch
LOCATION: 400 Main St  Manchester CT 06040
GEO:41.7795845;-72.521778
END:VEVENT
END:VCALENDAR