BEGIN:VCALENDAR
VERSION:2.0
PRODID:-//Tukios.com/
BEGIN:VEVENT
UID:af5a69f1-06e6-40b9-8cc9-bb255ba1d18b@www.holmeswatkins.com
DTSTAMP:20260420T175141Z
DTSTART:20260423T210000Z
DTEND:20260423T230000Z
SUMMARY:Visitation
DESCRIPTION:
URL:https://www.holmeswatkins.com/obituaries/marlene-couch
LOCATION: 400 Main St  Manchester CT 06040
GEO:41.7795845;-72.521778
END:VEVENT
END:VCALENDAR